BEGIN:VCALENDAR
VERSION:2.0
PRODID:icalendar-ruby
CALSCALE:GREGORIAN
METHOD:PUBLISH
BEGIN:VEVENT
DTSTAMP:20260421T013858Z
UID:93-1803141@ebcnc.com
DTSTART:20261018T144500Z
DTEND:20261018T154500Z
CLASS:PUBLIC
CREATED:20260420T195308
DESCRIPTION: In-Person Worship Service in the Sanctuary at 10:45 AM. 
LAST-MODIFIED:20260420T195308
LOCATION:Ebenezer Baptist Church
SUMMARY:Sunday Service (In-Person)
URL;VALUE=URI:https://www.ebcnc.com/events/sunday-service-in-person--93/202
 6-10-18
ATTACH;FILENAME=In-Person-Worship_Web-Digi.jpg;FMTTYPE=image/jpeg:https://d
 q5pwpg1q8ru0.cloudfront.net/2021/03/01/05/53/38/e261d2c5-c42e-47b0-8750-b7
 e3a252a22c/In-Person-Worship_Web-Digi.jpg
END:VEVENT
END:VCALENDAR
