BEGIN:VCALENDAR
VERSION:2.0
PRODID:icalendar-ruby
CALSCALE:GREGORIAN
METHOD:PUBLISH
BEGIN:VEVENT
DTSTAMP:20260419T125939Z
UID:947-1787974@ebcnc.com
DTSTART:20260419T163000Z
DTEND:20260419T190000Z
CLASS:PUBLIC
CREATED:20260419T054944
DESCRIPTION:Sunday\, April 19\, 2026\nEbenezer Baptist Church\n2700 West Va
 ndalia Road\,  Greensboro\, NC 27407\nFamily Visitation: 12:30 PM\nFunera
 l Service:  1:00 PM\nClick here to join the chat on YouTube during this s
 ervice.\nFuneral Service will be live streamed starting at 12:20 PM.\nHarg
 ett Funeral Service is assisting the family.\nClick here for the obituary 
 and to send condolences.
LAST-MODIFIED:20260419T054944
LOCATION:Ebenezer Baptist Church
SUMMARY:Funeral Services: Mother Frances Evans
URL;VALUE=URI:https://www.ebcnc.com/events/funeral-services-mother-frances-
 evans/2026-04-19
ATTACH;FILENAME=Event Title Frances Evans.png;FMTTYPE=image/png:https://dq5
 pwpg1q8ru0.cloudfront.net/2026/04/14/13/20/08/a063febf-ffd2-4368-800a-3bd1
 30b7ffa5/Event%20Title%20Frances%20Evans.png
END:VEVENT
END:VCALENDAR
