BEGIN:VCALENDAR
VERSION:2.0
PRODID:icalendar-ruby
CALSCALE:GREGORIAN
METHOD:PUBLISH
BEGIN:VEVENT
DTSTAMP:20260420T073435Z
UID:949-1787971@ebcnc.com
DTSTART:20260425T160000Z
DTEND:20260425T183000Z
CLASS:PUBLIC
CREATED:20260419T053219
DESCRIPTION:
LAST-MODIFIED:20260419T053219
LOCATION:
SUMMARY:Funeral Services: Brother Jimmie Hughes
URL;VALUE=URI:https://www.ebcnc.com/events/funeral-services-brother-jimmie-
 hughes/2026-04-25
ATTACH;FILENAME=Copy of Services for Jimmie Hughes.png;FMTTYPE=image/png:ht
 tps://dq5pwpg1q8ru0.cloudfront.net/2026/04/19/09/30/53/fc8b3b38-7345-4bff-
 a3c1-0bf4f1bb182d/Copy%20of%20Services%20for%20Jimmie%20Hughes.png
END:VEVENT
END:VCALENDAR
